BEGIN:VCALENDAR
VERSION:2.0
PRODID:-//Carbon and Energy Professionals - ECPv6.15.20//NONSGML v1.0//EN
CALSCALE:GREGORIAN
METHOD:PUBLISH
X-WR-CALNAME:Carbon and Energy Professionals
X-ORIGINAL-URL:https://cep.org.nz
X-WR-CALDESC:Events for Carbon and Energy Professionals
REFRESH-INTERVAL;VALUE=DURATION:PT1H
X-Robots-Tag:noindex
X-PUBLISHED-TTL:PT1H
BEGIN:VTIMEZONE
TZID:Pacific/Auckland
BEGIN:STANDARD
TZOFFSETFROM:+1300
TZOFFSETTO:+1200
TZNAME:NZST
DTSTART:20250405T140000
END:STANDARD
BEGIN:DAYLIGHT
TZOFFSETFROM:+1200
TZOFFSETTO:+1300
TZNAME:NZDT
DTSTART:20250927T140000
END:DAYLIGHT
BEGIN:STANDARD
TZOFFSETFROM:+1300
TZOFFSETTO:+1200
TZNAME:NZST
DTSTART:20260404T140000
END:STANDARD
BEGIN:DAYLIGHT
TZOFFSETFROM:+1200
TZOFFSETTO:+1300
TZNAME:NZDT
DTSTART:20260926T140000
END:DAYLIGHT
BEGIN:STANDARD
TZOFFSETFROM:+1300
TZOFFSETTO:+1200
TZNAME:NZST
DTSTART:20270403T140000
END:STANDARD
BEGIN:DAYLIGHT
TZOFFSETFROM:+1200
TZOFFSETTO:+1300
TZNAME:NZDT
DTSTART:20270925T140000
END:DAYLIGHT
END:VTIMEZONE
BEGIN:VEVENT
DTSTART;TZID=Pacific/Auckland:20260526T080000
DTEND;TZID=Pacific/Auckland:20260527T170000
DTSTAMP:20260420T165727
CREATED:20260305T234311Z
LAST-MODIFIED:20260401T022941Z
UID:69096-1779782400-1779901200@cep.org.nz
SUMMARY:CEP 2026 Conference
DESCRIPTION:We’re incredibly excited about 2026\, which marks an important anniversary and comes with several firsts for CEP and our Conference. \n2026 will be our 25th anniversary. We became incorporated as an independent society on 1st March\, 2001. CEP\, its Members and Corporate Partners have achieved a huge amount since then both in terms of saving money and constraining carbon emissions. It will be a big year and the pinnacle will be the 2026 Conference. \nWhile we haven’t been running an annual conference for all of that time\, 2026 will be the 17th. The event has grown\, expanded reach\, expanded influence and has become the premier annual event for energy\, carbon and sustainability professionals. We proudly claim it is the best value event of its type in New Zealand. \nWhile acknowledging the past\, we pride ourselves in being forward looking. For 2026 we’re looking forward to a new venue for the conference and a new city. For the first time\, the Conference will be held in Hamilton at the award winning Claudelands. We’re delighted\, again\, to be partnering with the Bioenergy Association for the event and look forward to welcoming delegates\, sponsors and exhibitors providing insight on future fuels. \nWe look forward to greeting you all to Claudelands on the 26th of May and to another outstanding CEP Conference.
URL:https://cep.org.nz/event/cep-2026-conference/
LOCATION:Claudelands\, 24 Anzac Parade\, Hamilton\, 3216\, New Zealand
CATEGORIES:CEP Conference,Industry events,Networking events
ATTACH;FMTTYPE=image/png:https://cep.org.nz/wp-content/uploads/2026/04/2026-CEP-Conference-event.png
ORGANIZER;CN="Carbon and Energy Professionals New Zealand":MAILTO:info@cep.org.nz
END:VEVENT
END:VCALENDAR